Package: PoDCall Version: 1.14.0 Command: /Library/Frameworks/R.framework/Resources/bin/R CMD INSTALL PoDCall StartedAt: 2025-02-03 16:33:30 -0500 (Mon, 03 Feb 2025) EndedAt: 2025-02-03 16:33:35 -0500 (Mon, 03 Feb 2025) EllapsedTime: 4.6 seconds RetCode: 0 Status: OK