Package: PoDCall Version: 1.14.0 Command: /Library/Frameworks/R.framework/Resources/bin/R CMD check --install=check:PoDCall.install-out.txt --library=/Library/Frameworks/R.framework/Resources/library --no-vignettes --timings PoDCall_1.14.0.tar.gz StartedAt: 2025-02-11 08:28:35 -0500 (Tue, 11 Feb 2025) EndedAt: 2025-02-11 08:40:28 -0500 (Tue, 11 Feb 2025) EllapsedTime: 712.6 seconds RetCode: 0 Status: OK CheckDir: PoDCall.Rcheck Warnings: 0