Package: PoDCall Version: 1.14.0 Command: F:\biocbuild\bbs-3.20-bioc\R\bin\R.exe CMD INSTALL PoDCall StartedAt: 2025-02-03 15:49:30 -0500 (Mon, 03 Feb 2025) EndedAt: 2025-02-03 15:49:44 -0500 (Mon, 03 Feb 2025) EllapsedTime: 14.5 seconds RetCode: 0 Status: OK