Package: Prostar Version: 1.38.1 Command: rm -rf Prostar.buildbin-libdir && mkdir Prostar.buildbin-libdir && /Users/biocbuild/BBS/utils/build-universal.sh Prostar_1.38.1.tar.gz /Library/Frameworks/R.framework/Resources/bin/R Prostar.buildbin-libdir StartedAt: 2025-02-12 16:26:28 -0500 (Wed, 12 Feb 2025) EndedAt: 2025-02-12 16:27:17 -0500 (Wed, 12 Feb 2025) EllapsedTime: 48.9 seconds RetCode: 0 Status: OK PackageFile: Prostar_1.38.1.tgz PackageFileSize: 1.626 MiB