Package: Prostar Version: 1.38.1 Command: /Library/Frameworks/R.framework/Resources/bin/R CMD build --keep-empty-dirs --no-resave-data Prostar StartedAt: 2025-02-04 05:50:44 -0500 (Tue, 04 Feb 2025) EndedAt: 2025-02-04 05:51:35 -0500 (Tue, 04 Feb 2025) EllapsedTime: 51.5 seconds RetCode: 0 Status: OK PackageFile: Prostar_1.38.1.tar.gz PackageFileSize: 4.266 MiB