Package: Prostar Version: 1.38.1 Command: /Library/Frameworks/R.framework/Resources/bin/R CMD check --install=check:Prostar.install-out.txt --library=/Library/Frameworks/R.framework/Resources/library --no-vignettes --timings Prostar_1.38.1.tar.gz StartedAt: 2025-02-11 08:39:55 -0500 (Tue, 11 Feb 2025) EndedAt: 2025-02-11 08:48:11 -0500 (Tue, 11 Feb 2025) EllapsedTime: 496.6 seconds RetCode: 0 Status: OK CheckDir: Prostar.Rcheck Warnings: 0