Package: Prostar Version: 1.38.1 Command: rm -rf Prostar.buildbin-libdir && mkdir Prostar.buildbin-libdir && F:\biocbuild\bbs-3.20-bioc\R\bin\R.exe CMD INSTALL --build --library=Prostar.buildbin-libdir Prostar_1.38.1.tar.gz StartedAt: 2025-02-04 09:13:34 -0500 (Tue, 04 Feb 2025) EndedAt: 2025-02-04 09:14:25 -0500 (Tue, 04 Feb 2025) EllapsedTime: 50.9 seconds RetCode: 0 Status: OK PackageFile: Prostar_1.38.1.zip PackageFileSize: 1.681 MiB