Package: Prostar Version: 1.38.1 Command: chmod a+r Prostar -R && F:\biocbuild\bbs-3.20-bioc\R\bin\R.exe CMD build --keep-empty-dirs --no-resave-data Prostar StartedAt: 2025-02-03 21:22:55 -0500 (Mon, 03 Feb 2025) EndedAt: 2025-02-03 21:24:13 -0500 (Mon, 03 Feb 2025) EllapsedTime: 77.8 seconds RetCode: 0 Status: OK PackageFile: Prostar_1.38.1.tar.gz PackageFileSize: 4.265 MiB