Package: Prostar Version: 1.38.1 Command: F:\biocbuild\bbs-3.20-bioc\R\bin\R.exe CMD check --no-multiarch --install=check:Prostar.install-out.txt --library=F:\biocbuild\bbs-3.20-bioc\R\library --no-vignettes --timings Prostar_1.38.1.tar.gz StartedAt: 2025-02-11 05:01:26 -0500 (Tue, 11 Feb 2025) EndedAt: 2025-02-11 05:06:34 -0500 (Tue, 11 Feb 2025) EllapsedTime: 308.8 seconds RetCode: 0 Status: OK CheckDir: Prostar.Rcheck Warnings: 0