Package: Prostar Version: 1.38.1 Command: F:\biocbuild\bbs-3.20-bioc\R\bin\R.exe CMD INSTALL Prostar StartedAt: 2025-02-10 16:43:29 -0500 (Mon, 10 Feb 2025) EndedAt: 2025-02-10 16:44:57 -0500 (Mon, 10 Feb 2025) EllapsedTime: 88.5 seconds RetCode: 0 Status: OK