Package: Prostar Version: 1.38.1 Command: /home/biocbuild/R/R/bin/R CMD build --keep-empty-dirs --no-resave-data Prostar StartedAt: 2025-02-04 01:57:48 -0000 (Tue, 04 Feb 2025) EndedAt: 2025-02-04 01:58:37 -0000 (Tue, 04 Feb 2025) EllapsedTime: 49.1 seconds RetCode: 0 Status: OK PackageFile: Prostar_1.38.1.tar.gz PackageFileSize: 4.29 MiB