Package: Prostar Version: 1.38.1 Command: /home/biocbuild/R/R/bin/R CMD check --install=check:Prostar.install-out.txt --library=/home/biocbuild/R/R/site-library --no-vignettes --timings Prostar_1.38.1.tar.gz StartedAt: 2025-02-04 10:03:06 -0000 (Tue, 04 Feb 2025) EndedAt: 2025-02-04 10:08:06 -0000 (Tue, 04 Feb 2025) EllapsedTime: 299.4 seconds RetCode: 0 Status: OK CheckDir: Prostar.Rcheck Warnings: 0