Package: Prostar Version: 1.38.1 Command: /home/biocbuild/R/R/bin/R CMD INSTALL Prostar StartedAt: 2025-02-03 21:08:31 -0000 (Mon, 03 Feb 2025) EndedAt: 2025-02-03 21:09:16 -0000 (Mon, 03 Feb 2025) EllapsedTime: 45.0 seconds RetCode: 0 Status: OK