Package: ProtGenerics Version: 1.38.0 Command: /Library/Frameworks/R.framework/Resources/bin/R CMD INSTALL ProtGenerics StartedAt: 2025-02-03 15:16:19 -0500 (Mon, 03 Feb 2025) EndedAt: 2025-02-03 15:16:52 -0500 (Mon, 03 Feb 2025) EllapsedTime: 33.2 seconds RetCode: 0 Status: OK