Package: ProtGenerics Version: 1.38.0 Command: rm -rf ProtGenerics.buildbin-libdir && mkdir ProtGenerics.buildbin-libdir && F:\biocbuild\bbs-3.20-bioc\R\bin\R.exe CMD INSTALL --build --library=ProtGenerics.buildbin-libdir ProtGenerics_1.38.0.tar.gz StartedAt: 2025-02-04 09:13:43 -0500 (Tue, 04 Feb 2025) EndedAt: 2025-02-04 09:16:57 -0500 (Tue, 04 Feb 2025) EllapsedTime: 193.8 seconds RetCode: 0 Status: OK PackageFile: ProtGenerics_1.38.0.zip PackageFileSize: 240.5 KiB