Package: ProtGenerics Version: 1.38.0 Command: chmod a+r ProtGenerics -R && F:\biocbuild\bbs-3.20-bioc\R\bin\R.exe CMD build --keep-empty-dirs --no-resave-data ProtGenerics StartedAt: 2025-02-03 21:23:28 -0500 (Mon, 03 Feb 2025) EndedAt: 2025-02-03 21:23:30 -0500 (Mon, 03 Feb 2025) EllapsedTime: 2.0 seconds RetCode: 0 Status: OK PackageFile: ProtGenerics_1.38.0.tar.gz PackageFileSize: 9.98 KiB