Package: ProteoDisco Version: 1.12.0 Command: /home/biocbuild/R/R/bin/R CMD build --keep-empty-dirs --no-resave-data ProteoDisco StartedAt: 2025-02-04 01:57:55 -0000 (Tue, 04 Feb 2025) EndedAt: 2025-02-04 02:37:56 -0000 (Tue, 04 Feb 2025) EllapsedTime: 2400.9 seconds RetCode: None Status: TIMEOUT PackageFile: None PackageFileSize: NA