Package: ProteoDisco Version: 1.12.0 Command: /home/biocbuild/R/R/bin/R CMD check --install=check:ProteoDisco.install-out.txt --library=/home/biocbuild/R/R/site-library --no-vignettes --timings ProteoDisco_1.12.0.tar.gz StartedAt: 2025-02-11 09:23:16 -0000 (Tue, 11 Feb 2025) EndedAt: 2025-02-11 10:03:16 -0000 (Tue, 11 Feb 2025) EllapsedTime: 2400.1 seconds RetCode: None Status: TIMEOUT CheckDir: ProteoDisco.Rcheck Warnings: NA