Package: QDNAseq Version: 1.42.0 Command: /Library/Frameworks/R.framework/Resources/bin/R CMD build --keep-empty-dirs --no-resave-data QDNAseq StartedAt: 2025-02-04 05:57:49 -0500 (Tue, 04 Feb 2025) EndedAt: 2025-02-04 05:58:54 -0500 (Tue, 04 Feb 2025) EllapsedTime: 65.1 seconds RetCode: 0 Status: OK PackageFile: QDNAseq_1.42.0.tar.gz PackageFileSize: 993.5 KiB