Package: QDNAseq Version: 1.42.0 Command: /Library/Frameworks/R.framework/Resources/bin/R CMD check --install=check:QDNAseq.install-out.txt --library=/Library/Frameworks/R.framework/Resources/library --no-vignettes --timings QDNAseq_1.42.0.tar.gz StartedAt: 2025-02-05 06:20:52 -0500 (Wed, 05 Feb 2025) EndedAt: 2025-02-05 06:28:29 -0500 (Wed, 05 Feb 2025) EllapsedTime: 457.0 seconds RetCode: 0 Status: OK CheckDir: QDNAseq.Rcheck Warnings: 0