Package: QDNAseq Version: 1.42.0 Command: /Library/Frameworks/R.framework/Resources/bin/R CMD INSTALL QDNAseq StartedAt: 2025-02-03 16:16:50 -0500 (Mon, 03 Feb 2025) EndedAt: 2025-02-03 16:17:14 -0500 (Mon, 03 Feb 2025) EllapsedTime: 24.0 seconds RetCode: 0 Status: OK