Package: QDNAseq Version: 1.42.0 Command: rm -rf QDNAseq.buildbin-libdir && mkdir QDNAseq.buildbin-libdir && /Users/biocbuild/BBS/utils/build-universal.sh QDNAseq_1.42.0.tar.gz /Library/Frameworks/R.framework/Resources/bin/R QDNAseq.buildbin-libdir StartedAt: 2025-02-04 13:51:57 -0500 (Tue, 04 Feb 2025) EndedAt: 2025-02-04 13:53:21 -0500 (Tue, 04 Feb 2025) EllapsedTime: 83.8 seconds RetCode: 0 Status: OK PackageFile: QDNAseq_1.42.0.tgz PackageFileSize: 1.534 MiB