Package: QDNAseq Version: 1.42.0 Command: /Library/Frameworks/R.framework/Resources/bin/R CMD INSTALL QDNAseq StartedAt: 2025-02-10 15:44:30 -0500 (Mon, 10 Feb 2025) EndedAt: 2025-02-10 15:45:16 -0500 (Mon, 10 Feb 2025) EllapsedTime: 46.8 seconds RetCode: 0 Status: OK