Package: QDNAseq Version: 1.42.0 Command: rm -rf QDNAseq.buildbin-libdir && mkdir QDNAseq.buildbin-libdir && F:\biocbuild\bbs-3.20-bioc\R\bin\R.exe CMD INSTALL --build --library=QDNAseq.buildbin-libdir QDNAseq_1.42.0.tar.gz StartedAt: 2025-02-04 09:14:22 -0500 (Tue, 04 Feb 2025) EndedAt: 2025-02-04 09:15:23 -0500 (Tue, 04 Feb 2025) EllapsedTime: 60.9 seconds RetCode: 0 Status: OK PackageFile: QDNAseq_1.42.0.zip PackageFileSize: 1.39 MiB