Package: QDNAseq Version: 1.42.0 Command: chmod a+r QDNAseq -R && F:\biocbuild\bbs-3.20-bioc\R\bin\R.exe CMD build --keep-empty-dirs --no-resave-data QDNAseq StartedAt: 2025-02-10 21:18:25 -0500 (Mon, 10 Feb 2025) EndedAt: 2025-02-10 21:25:17 -0500 (Mon, 10 Feb 2025) EllapsedTime: 411.9 seconds RetCode: 0 Status: OK PackageFile: QDNAseq_1.42.0.tar.gz PackageFileSize: 849.5 KiB