Package: QDNAseq Version: 1.42.0 Command: F:\biocbuild\bbs-3.20-bioc\R\bin\R.exe CMD INSTALL QDNAseq StartedAt: 2025-02-03 15:55:41 -0500 (Mon, 03 Feb 2025) EndedAt: 2025-02-03 15:56:47 -0500 (Mon, 03 Feb 2025) EllapsedTime: 66.1 seconds RetCode: 0 Status: OK