Package: QDNAseq Version: 1.42.0 Command: /home/biocbuild/R/R/bin/R CMD INSTALL QDNAseq StartedAt: 2025-02-10 20:35:28 -0000 (Mon, 10 Feb 2025) EndedAt: 2025-02-10 20:35:52 -0000 (Mon, 10 Feb 2025) EllapsedTime: 23.3 seconds RetCode: 0 Status: OK