Package: QSutils Version: 1.24.0 Command: rm -rf QSutils.buildbin-libdir && mkdir QSutils.buildbin-libdir && F:\biocbuild\bbs-3.20-bioc\R\bin\R.exe CMD INSTALL --build --library=QSutils.buildbin-libdir QSutils_1.24.0.tar.gz StartedAt: 2025-02-04 09:14:58 -0500 (Tue, 04 Feb 2025) EndedAt: 2025-02-04 09:15:24 -0500 (Tue, 04 Feb 2025) EllapsedTime: 26.2 seconds RetCode: 0 Status: OK PackageFile: QSutils_1.24.0.zip PackageFileSize: 1.221 MiB