Package: QSutils Version: 1.24.0 Command: F:\biocbuild\bbs-3.20-bioc\R\bin\R.exe CMD check --no-multiarch --install=check:QSutils.install-out.txt --library=F:\biocbuild\bbs-3.20-bioc\R\library --no-vignettes --timings QSutils_1.24.0.tar.gz StartedAt: 2025-02-04 05:11:28 -0500 (Tue, 04 Feb 2025) EndedAt: 2025-02-04 05:13:03 -0500 (Tue, 04 Feb 2025) EllapsedTime: 94.9 seconds RetCode: 0 Status: OK CheckDir: QSutils.Rcheck Warnings: 0