Package: QTLExperiment Version: 1.4.0 Command: rm -rf QTLExperiment.buildbin-libdir && mkdir QTLExperiment.buildbin-libdir && /Users/biocbuild/BBS/utils/build-universal.sh QTLExperiment_1.4.0.tar.gz /Library/Frameworks/R.framework/Resources/bin/R QTLExperiment.buildbin-libdir StartedAt: 2025-02-01 16:19:53 -0500 (Sat, 01 Feb 2025) EndedAt: 2025-02-01 16:20:26 -0500 (Sat, 01 Feb 2025) EllapsedTime: 32.6 seconds RetCode: 0 Status: OK PackageFile: QTLExperiment_1.4.0.tgz PackageFileSize: 1.129 MiB