Package: QTLExperiment Version: 1.4.0 Command: /Library/Frameworks/R.framework/Resources/bin/R CMD check --install=check:QTLExperiment.install-out.txt --library=/Library/Frameworks/R.framework/Resources/library --no-vignettes --timings QTLExperiment_1.4.0.tar.gz StartedAt: 2025-02-01 05:43:13 -0500 (Sat, 01 Feb 2025) EndedAt: 2025-02-01 05:46:50 -0500 (Sat, 01 Feb 2025) EllapsedTime: 217.5 seconds RetCode: 0 Status: OK CheckDir: QTLExperiment.Rcheck Warnings: 0