Package: QTLExperiment Version: 1.4.0 Command: /Library/Frameworks/R.framework/Resources/bin/R CMD INSTALL QTLExperiment StartedAt: 2025-01-30 15:23:59 -0500 (Thu, 30 Jan 2025) EndedAt: 2025-01-30 15:24:29 -0500 (Thu, 30 Jan 2025) EllapsedTime: 29.6 seconds RetCode: 0 Status: OK