Package: QTLExperiment Version: 1.4.0 Command: /Library/Frameworks/R.framework/Resources/bin/R CMD check --install=check:QTLExperiment.install-out.txt --library=/Library/Frameworks/R.framework/Resources/library --no-vignettes --timings QTLExperiment_1.4.0.tar.gz StartedAt: 2025-01-31 08:28:47 -0500 (Fri, 31 Jan 2025) EndedAt: 2025-01-31 08:35:33 -0500 (Fri, 31 Jan 2025) EllapsedTime: 406.5 seconds RetCode: 0 Status: OK CheckDir: QTLExperiment.Rcheck Warnings: 0