Package: QTLExperiment Version: 1.4.0 Command: /home/biocbuild/bbs-3.20-bioc/R/bin/R CMD build --keep-empty-dirs --no-resave-data --md5 QTLExperiment StartedAt: 2025-01-30 18:41:09 -0500 (Thu, 30 Jan 2025) EndedAt: 2025-01-30 18:41:46 -0500 (Thu, 30 Jan 2025) EllapsedTime: 37.0 seconds RetCode: 0 Status: OK PackageFile: QTLExperiment_1.4.0.tar.gz PackageFileSize: 615.1 KiB