Package: QTLExperiment Version: 1.4.0 Command: chmod a+r QTLExperiment -R && F:\biocbuild\bbs-3.20-bioc\R\bin\R.exe CMD build --keep-empty-dirs --no-resave-data QTLExperiment StartedAt: 2025-02-03 21:26:31 -0500 (Mon, 03 Feb 2025) EndedAt: 2025-02-03 21:27:38 -0500 (Mon, 03 Feb 2025) EllapsedTime: 66.7 seconds RetCode: 0 Status: OK PackageFile: QTLExperiment_1.4.0.tar.gz PackageFileSize: 612.4 KiB