Package: Qtlizer Version: 1.20.0 Command: rm -rf Qtlizer.buildbin-libdir && mkdir Qtlizer.buildbin-libdir && /Users/biocbuild/BBS/utils/build-universal.sh Qtlizer_1.20.0.tar.gz /Library/Frameworks/R.framework/Resources/bin/R Qtlizer.buildbin-libdir StartedAt: 2025-02-05 17:15:34 -0500 (Wed, 05 Feb 2025) EndedAt: 2025-02-05 17:15:37 -0500 (Wed, 05 Feb 2025) EllapsedTime: 3.4 seconds RetCode: 0 Status: OK PackageFile: Qtlizer_1.20.0.tgz PackageFileSize: 235.8 KiB