Package: Qtlizer Version: 1.20.0 Command: /Library/Frameworks/R.framework/Resources/bin/R CMD build --keep-empty-dirs --no-resave-data Qtlizer StartedAt: 2025-02-04 06:00:55 -0500 (Tue, 04 Feb 2025) EndedAt: 2025-02-04 06:01:06 -0500 (Tue, 04 Feb 2025) EllapsedTime: 10.2 seconds RetCode: 0 Status: OK PackageFile: Qtlizer_1.20.0.tar.gz PackageFileSize: 223.1 KiB