Package: Qtlizer Version: 1.20.0 Command: /Library/Frameworks/R.framework/Resources/bin/R CMD check --install=check:Qtlizer.install-out.txt --library=/Library/Frameworks/R.framework/Resources/library --no-vignettes --timings Qtlizer_1.20.0.tar.gz StartedAt: 2025-02-05 06:30:05 -0500 (Wed, 05 Feb 2025) EndedAt: 2025-02-05 06:30:34 -0500 (Wed, 05 Feb 2025) EllapsedTime: 29.1 seconds RetCode: 0 Status: OK CheckDir: Qtlizer.Rcheck Warnings: 0