Package: Qtlizer Version: 1.20.0 Command: /home/biocbuild/bbs-3.20-bioc/R/bin/R CMD build --keep-empty-dirs --no-resave-data --md5 Qtlizer StartedAt: 2025-02-03 18:50:53 -0500 (Mon, 03 Feb 2025) EndedAt: 2025-02-03 18:51:02 -0500 (Mon, 03 Feb 2025) EllapsedTime: 9.0 seconds RetCode: 0 Status: OK PackageFile: Qtlizer_1.20.0.tar.gz PackageFileSize: 223.6 KiB