Package: Qtlizer Version: 1.20.0 Command: rm -rf Qtlizer.buildbin-libdir && mkdir Qtlizer.buildbin-libdir && F:\biocbuild\bbs-3.20-bioc\R\bin\R.exe CMD INSTALL --build --library=Qtlizer.buildbin-libdir Qtlizer_1.20.0.tar.gz StartedAt: 2025-02-04 09:15:12 -0500 (Tue, 04 Feb 2025) EndedAt: 2025-02-04 09:15:17 -0500 (Tue, 04 Feb 2025) EllapsedTime: 4.8 seconds RetCode: 0 Status: OK PackageFile: Qtlizer_1.20.0.zip PackageFileSize: 239.7 KiB