Package: Qtlizer Version: 1.20.0 Command: /home/biocbuild/R/R/bin/R CMD INSTALL Qtlizer StartedAt: 2025-02-10 21:09:30 -0000 (Mon, 10 Feb 2025) EndedAt: 2025-02-10 21:09:32 -0000 (Mon, 10 Feb 2025) EllapsedTime: 2.1 seconds RetCode: 0 Status: OK