Package: QuartPAC Version: 1.38.0 Command: rm -rf QuartPAC.buildbin-libdir && mkdir QuartPAC.buildbin-libdir && /Users/biocbuild/BBS/utils/build-universal.sh QuartPAC_1.38.0.tar.gz /Library/Frameworks/R.framework/Resources/bin/R QuartPAC.buildbin-libdir StartedAt: 2025-02-04 13:53:09 -0500 (Tue, 04 Feb 2025) EndedAt: 2025-02-04 13:54:12 -0500 (Tue, 04 Feb 2025) EllapsedTime: 62.7 seconds RetCode: 0 Status: OK PackageFile: QuartPAC_1.38.0.tgz PackageFileSize: 645.7 KiB