Package: QuartPAC Version: 1.38.0 Command: /Library/Frameworks/R.framework/Resources/bin/R CMD build --keep-empty-dirs --no-resave-data QuartPAC StartedAt: 2025-02-03 21:30:00 -0500 (Mon, 03 Feb 2025) EndedAt: 2025-02-03 21:32:19 -0500 (Mon, 03 Feb 2025) EllapsedTime: 139.2 seconds RetCode: 0 Status: OK PackageFile: QuartPAC_1.38.0.tar.gz PackageFileSize: 907.5 KiB