Package: QuartPAC Version: 1.38.0 Command: /Library/Frameworks/R.framework/Resources/bin/R CMD check --install=check:QuartPAC.install-out.txt --library=/Library/Frameworks/R.framework/Resources/library --no-vignettes --timings QuartPAC_1.38.0.tar.gz StartedAt: 2025-02-04 08:28:59 -0500 (Tue, 04 Feb 2025) EndedAt: 2025-02-04 08:36:35 -0500 (Tue, 04 Feb 2025) EllapsedTime: 456.8 seconds RetCode: 0 Status: OK CheckDir: QuartPAC.Rcheck Warnings: 0