Package: QuartPAC Version: 1.38.0 Command: /Library/Frameworks/R.framework/Resources/bin/R CMD INSTALL QuartPAC StartedAt: 2025-02-03 16:27:06 -0500 (Mon, 03 Feb 2025) EndedAt: 2025-02-03 16:27:39 -0500 (Mon, 03 Feb 2025) EllapsedTime: 33.1 seconds RetCode: 0 Status: OK