Package: QuartPAC Version: 1.38.0 Command: /home/biocbuild/bbs-3.20-bioc/R/bin/R CMD build --keep-empty-dirs --no-resave-data --md5 QuartPAC StartedAt: 2025-02-10 18:43:37 -0500 (Mon, 10 Feb 2025) EndedAt: 2025-02-10 18:44:35 -0500 (Mon, 10 Feb 2025) EllapsedTime: 58.1 seconds RetCode: 0 Status: OK PackageFile: QuartPAC_1.38.0.tar.gz PackageFileSize: 908.7 KiB