Package: QuartPAC Version: 1.38.0 Command: chmod a+r QuartPAC -R && F:\biocbuild\bbs-3.20-bioc\R\bin\R.exe CMD build --keep-empty-dirs --no-resave-data QuartPAC StartedAt: 2025-02-10 21:20:26 -0500 (Mon, 10 Feb 2025) EndedAt: 2025-02-10 21:21:27 -0500 (Mon, 10 Feb 2025) EllapsedTime: 60.5 seconds RetCode: 0 Status: OK PackageFile: QuartPAC_1.38.0.tar.gz PackageFileSize: 751.4 KiB