Package: QuartPAC Version: 1.38.0 Command: /home/biocbuild/R/R/bin/R CMD build --keep-empty-dirs --no-resave-data QuartPAC StartedAt: 2025-02-04 02:02:06 -0000 (Tue, 04 Feb 2025) EndedAt: 2025-02-04 02:03:26 -0000 (Tue, 04 Feb 2025) EllapsedTime: 80.1 seconds RetCode: 0 Status: OK PackageFile: QuartPAC_1.38.0.tar.gz PackageFileSize: 899.5 KiB