Package: QuartPAC Version: 1.38.0 Command: /home/biocbuild/R/R/bin/R CMD check --install=check:QuartPAC.install-out.txt --library=/home/biocbuild/R/R/site-library --no-vignettes --timings QuartPAC_1.38.0.tar.gz StartedAt: 2025-02-04 10:09:23 -0000 (Tue, 04 Feb 2025) EndedAt: 2025-02-04 10:13:55 -0000 (Tue, 04 Feb 2025) EllapsedTime: 272.4 seconds RetCode: 0 Status: OK CheckDir: QuartPAC.Rcheck Warnings: 0