Package: QuasR Version: 1.46.0 Command: /Library/Frameworks/R.framework/Resources/bin/R CMD build --keep-empty-dirs --no-resave-data QuasR StartedAt: 2025-02-03 21:30:03 -0500 (Mon, 03 Feb 2025) EndedAt: 2025-02-03 21:39:07 -0500 (Mon, 03 Feb 2025) EllapsedTime: 543.4 seconds RetCode: 0 Status: OK PackageFile: QuasR_1.46.0.tar.gz PackageFileSize: 2.406 MiB